BEGIN:VCALENDAR
VERSION:2.0
PRODID:-//Alcoholics Anonymous - ECPv6.15.20//NONSGML v1.0//EN
CALSCALE:GREGORIAN
METHOD:PUBLISH
X-ORIGINAL-URL:https://aarichmond.org
X-WR-CALDESC:Events for Alcoholics Anonymous
REFRESH-INTERVAL;VALUE=DURATION:PT1H
X-Robots-Tag:noindex
X-PUBLISHED-TTL:PT1H
BEGIN:VTIMEZONE
TZID:America/New_York
BEGIN:DAYLIGHT
TZOFFSETFROM:-0500
TZOFFSETTO:-0400
TZNAME:EDT
DTSTART:20240310T070000
END:DAYLIGHT
BEGIN:STANDARD
TZOFFSETFROM:-0400
TZOFFSETTO:-0500
TZNAME:EST
DTSTART:20241103T060000
END:STANDARD
BEGIN:DAYLIGHT
TZOFFSETFROM:-0500
TZOFFSETTO:-0400
TZNAME:EDT
DTSTART:20250309T070000
END:DAYLIGHT
BEGIN:STANDARD
TZOFFSETFROM:-0400
TZOFFSETTO:-0500
TZNAME:EST
DTSTART:20251102T060000
END:STANDARD
BEGIN:DAYLIGHT
TZOFFSETFROM:-0500
TZOFFSETTO:-0400
TZNAME:EDT
DTSTART:20260308T070000
END:DAYLIGHT
BEGIN:STANDARD
TZOFFSETFROM:-0400
TZOFFSETTO:-0500
TZNAME:EST
DTSTART:20261101T060000
END:STANDARD
END:VTIMEZONE
BEGIN:VEVENT
DTSTART;TZID=America/New_York:20250418T070000
DTEND;TZID=America/New_York:20250418T203000
DTSTAMP:20260424T152417
CREATED:20250409T163828Z
LAST-MODIFIED:20250409T163929Z
UID:10000459-1744959600-1745008200@aarichmond.org
SUMMARY:Annual Not Saints Anniversary Meeting
DESCRIPTION:Annual Not Saints Anniversary Meeting. This anniversary meeting is the first time since COVID that celebrates the 1986 founding of the group by Basil S and so many others! There has been a Not Saints’ meeting somewhere in RVA every Friday since 1986! Parking is behind the church. Enter alleyway from Lombardy Avenue. Cake will be served at 7:00 PM followed by a speaker meeting at 7:30 PM.
URL:https://aarichmond.org/event/annual-not-saints-anniversary-meeting/
LOCATION:The First English Lutheran Church\, 1603 Monument Avenue\, Richmond\, VA\, 23220
END:VEVENT
END:VCALENDAR