BEGIN:VCALENDAR
VERSION:2.0
PRODID:-//Alcoholics Anonymous - ECPv6.15.20//NONSGML v1.0//EN
CALSCALE:GREGORIAN
METHOD:PUBLISH
X-ORIGINAL-URL:https://aarichmond.org
X-WR-CALDESC:Events for Alcoholics Anonymous
REFRESH-INTERVAL;VALUE=DURATION:PT1H
X-Robots-Tag:noindex
X-PUBLISHED-TTL:PT1H
BEGIN:VTIMEZONE
TZID:America/New_York
BEGIN:DAYLIGHT
TZOFFSETFROM:-0500
TZOFFSETTO:-0400
TZNAME:EDT
DTSTART:20250309T070000
END:DAYLIGHT
BEGIN:STANDARD
TZOFFSETFROM:-0400
TZOFFSETTO:-0500
TZNAME:EST
DTSTART:20251102T060000
END:STANDARD
BEGIN:DAYLIGHT
TZOFFSETFROM:-0500
TZOFFSETTO:-0400
TZNAME:EDT
DTSTART:20260308T070000
END:DAYLIGHT
BEGIN:STANDARD
TZOFFSETFROM:-0400
TZOFFSETTO:-0500
TZNAME:EST
DTSTART:20261101T060000
END:STANDARD
BEGIN:DAYLIGHT
TZOFFSETFROM:-0500
TZOFFSETTO:-0400
TZNAME:EDT
DTSTART:20270314T070000
END:DAYLIGHT
BEGIN:STANDARD
TZOFFSETFROM:-0400
TZOFFSETTO:-0500
TZNAME:EST
DTSTART:20271107T060000
END:STANDARD
BEGIN:DAYLIGHT
TZOFFSETFROM:-0500
TZOFFSETTO:-0400
TZNAME:EDT
DTSTART:20280312T070000
END:DAYLIGHT
BEGIN:STANDARD
TZOFFSETFROM:-0400
TZOFFSETTO:-0500
TZNAME:EST
DTSTART:20281105T060000
END:STANDARD
END:VTIMEZONE
BEGIN:VEVENT
DTSTART;TZID=America/New_York:20260505T193000
DTEND;TZID=America/New_York:20260505T193000
DTSTAMP:20260422T060012
CREATED:20260225T024805Z
LAST-MODIFIED:20260225T025328Z
UID:10000576-1778009400-1778009400@aarichmond.org
SUMMARY:Monthly Intergroup Meeting
DESCRIPTION:The monthly Intergroup meeting (not a recovery meeting) takes place on the first Tuesday of each month at 7:30 PM. The meeting is hybrid. Zoom ID is 948 8534 4579 and password is Inter2020 (Camera ON Requested). \nNOTE: You are welcome to join us in person at the intergroup office in the month of March. Will return to St. Thomas Episcopal Church for our April Monthly Meeting. \n 
URL:https://aarichmond.org/event/monthly-intergroup-meeting-2-2-2-5-4/2026-05-05/
LOCATION:Intergroup Office\, 5310 Markel Road Suite 108\, Richmond\, Virginia\, 23220
END:VEVENT
BEGIN:VEVENT
DTSTART;TZID=America/New_York:20260602T193000
DTEND;TZID=America/New_York:20260602T193000
DTSTAMP:20260422T060012
CREATED:20260225T024805Z
LAST-MODIFIED:20260225T025328Z
UID:10000577-1780428600-1780428600@aarichmond.org
SUMMARY:Monthly Intergroup Meeting
DESCRIPTION:The monthly Intergroup meeting (not a recovery meeting) takes place on the first Tuesday of each month at 7:30 PM. The meeting is hybrid. Zoom ID is 948 8534 4579 and password is Inter2020 (Camera ON Requested). \nNOTE: You are welcome to join us in person at the intergroup office in the month of March. Will return to St. Thomas Episcopal Church for our April Monthly Meeting. \n 
URL:https://aarichmond.org/event/monthly-intergroup-meeting-2-2-2-5-4/2026-06-02/
LOCATION:Intergroup Office\, 5310 Markel Road Suite 108\, Richmond\, Virginia\, 23220
END:VEVENT
BEGIN:VEVENT
DTSTART;TZID=America/New_York:20260707T193000
DTEND;TZID=America/New_York:20260707T193000
DTSTAMP:20260422T060012
CREATED:20260225T024805Z
LAST-MODIFIED:20260225T025328Z
UID:10000578-1783452600-1783452600@aarichmond.org
SUMMARY:Monthly Intergroup Meeting
DESCRIPTION:The monthly Intergroup meeting (not a recovery meeting) takes place on the first Tuesday of each month at 7:30 PM. The meeting is hybrid. Zoom ID is 948 8534 4579 and password is Inter2020 (Camera ON Requested). \nNOTE: You are welcome to join us in person at the intergroup office in the month of March. Will return to St. Thomas Episcopal Church for our April Monthly Meeting. \n 
URL:https://aarichmond.org/event/monthly-intergroup-meeting-2-2-2-5-4/2026-07-07/
LOCATION:Intergroup Office\, 5310 Markel Road Suite 108\, Richmond\, Virginia\, 23220
END:VEVENT
BEGIN:VEVENT
DTSTART;TZID=America/New_York:20260804T193000
DTEND;TZID=America/New_York:20260804T193000
DTSTAMP:20260422T060012
CREATED:20260225T024805Z
LAST-MODIFIED:20260225T025328Z
UID:10000579-1785871800-1785871800@aarichmond.org
SUMMARY:Monthly Intergroup Meeting
DESCRIPTION:The monthly Intergroup meeting (not a recovery meeting) takes place on the first Tuesday of each month at 7:30 PM. The meeting is hybrid. Zoom ID is 948 8534 4579 and password is Inter2020 (Camera ON Requested). \nNOTE: You are welcome to join us in person at the intergroup office in the month of March. Will return to St. Thomas Episcopal Church for our April Monthly Meeting. \n 
URL:https://aarichmond.org/event/monthly-intergroup-meeting-2-2-2-5-4/2026-08-04/
LOCATION:Intergroup Office\, 5310 Markel Road Suite 108\, Richmond\, Virginia\, 23220
END:VEVENT
BEGIN:VEVENT
DTSTART;TZID=America/New_York:20260901T193000
DTEND;TZID=America/New_York:20260901T193000
DTSTAMP:20260422T060012
CREATED:20260225T024805Z
LAST-MODIFIED:20260225T025328Z
UID:10000580-1788291000-1788291000@aarichmond.org
SUMMARY:Monthly Intergroup Meeting
DESCRIPTION:The monthly Intergroup meeting (not a recovery meeting) takes place on the first Tuesday of each month at 7:30 PM. The meeting is hybrid. Zoom ID is 948 8534 4579 and password is Inter2020 (Camera ON Requested). \nNOTE: You are welcome to join us in person at the intergroup office in the month of March. Will return to St. Thomas Episcopal Church for our April Monthly Meeting. \n 
URL:https://aarichmond.org/event/monthly-intergroup-meeting-2-2-2-5-4/2026-09-01/
LOCATION:Intergroup Office\, 5310 Markel Road Suite 108\, Richmond\, Virginia\, 23220
END:VEVENT
BEGIN:VEVENT
DTSTART;TZID=America/New_York:20261006T193000
DTEND;TZID=America/New_York:20261006T193000
DTSTAMP:20260422T060012
CREATED:20260225T024805Z
LAST-MODIFIED:20260225T025328Z
UID:10000581-1791315000-1791315000@aarichmond.org
SUMMARY:Monthly Intergroup Meeting
DESCRIPTION:The monthly Intergroup meeting (not a recovery meeting) takes place on the first Tuesday of each month at 7:30 PM. The meeting is hybrid. Zoom ID is 948 8534 4579 and password is Inter2020 (Camera ON Requested). \nNOTE: You are welcome to join us in person at the intergroup office in the month of March. Will return to St. Thomas Episcopal Church for our April Monthly Meeting. \n 
URL:https://aarichmond.org/event/monthly-intergroup-meeting-2-2-2-5-4/2026-10-06/
LOCATION:Intergroup Office\, 5310 Markel Road Suite 108\, Richmond\, Virginia\, 23220
END:VEVENT
BEGIN:VEVENT
DTSTART;TZID=America/New_York:20261103T193000
DTEND;TZID=America/New_York:20261103T193000
DTSTAMP:20260422T060012
CREATED:20260225T024805Z
LAST-MODIFIED:20260225T025328Z
UID:10000582-1793734200-1793734200@aarichmond.org
SUMMARY:Monthly Intergroup Meeting
DESCRIPTION:The monthly Intergroup meeting (not a recovery meeting) takes place on the first Tuesday of each month at 7:30 PM. The meeting is hybrid. Zoom ID is 948 8534 4579 and password is Inter2020 (Camera ON Requested). \nNOTE: You are welcome to join us in person at the intergroup office in the month of March. Will return to St. Thomas Episcopal Church for our April Monthly Meeting. \n 
URL:https://aarichmond.org/event/monthly-intergroup-meeting-2-2-2-5-4/2026-11-03/
LOCATION:Intergroup Office\, 5310 Markel Road Suite 108\, Richmond\, Virginia\, 23220
END:VEVENT
BEGIN:VEVENT
DTSTART;TZID=America/New_York:20261201T193000
DTEND;TZID=America/New_York:20261201T193000
DTSTAMP:20260422T060012
CREATED:20260225T024805Z
LAST-MODIFIED:20260225T025328Z
UID:10000583-1796153400-1796153400@aarichmond.org
SUMMARY:Monthly Intergroup Meeting
DESCRIPTION:The monthly Intergroup meeting (not a recovery meeting) takes place on the first Tuesday of each month at 7:30 PM. The meeting is hybrid. Zoom ID is 948 8534 4579 and password is Inter2020 (Camera ON Requested). \nNOTE: You are welcome to join us in person at the intergroup office in the month of March. Will return to St. Thomas Episcopal Church for our April Monthly Meeting. \n 
URL:https://aarichmond.org/event/monthly-intergroup-meeting-2-2-2-5-4/2026-12-01/
LOCATION:Intergroup Office\, 5310 Markel Road Suite 108\, Richmond\, Virginia\, 23220
END:VEVENT
BEGIN:VEVENT
DTSTART;TZID=America/New_York:20270105T193000
DTEND;TZID=America/New_York:20270105T193000
DTSTAMP:20260422T060012
CREATED:20260225T024805Z
LAST-MODIFIED:20260225T025328Z
UID:10000584-1799177400-1799177400@aarichmond.org
SUMMARY:Monthly Intergroup Meeting
DESCRIPTION:The monthly Intergroup meeting (not a recovery meeting) takes place on the first Tuesday of each month at 7:30 PM. The meeting is hybrid. Zoom ID is 948 8534 4579 and password is Inter2020 (Camera ON Requested). \nNOTE: You are welcome to join us in person at the intergroup office in the month of March. Will return to St. Thomas Episcopal Church for our April Monthly Meeting. \n 
URL:https://aarichmond.org/event/monthly-intergroup-meeting-2-2-2-5-4/2027-01-05/
LOCATION:Intergroup Office\, 5310 Markel Road Suite 108\, Richmond\, Virginia\, 23220
END:VEVENT
BEGIN:VEVENT
DTSTART;TZID=America/New_York:20270202T193000
DTEND;TZID=America/New_York:20270202T193000
DTSTAMP:20260422T060012
CREATED:20260225T024805Z
LAST-MODIFIED:20260225T025328Z
UID:10000585-1801596600-1801596600@aarichmond.org
SUMMARY:Monthly Intergroup Meeting
DESCRIPTION:The monthly Intergroup meeting (not a recovery meeting) takes place on the first Tuesday of each month at 7:30 PM. The meeting is hybrid. Zoom ID is 948 8534 4579 and password is Inter2020 (Camera ON Requested). \nNOTE: You are welcome to join us in person at the intergroup office in the month of March. Will return to St. Thomas Episcopal Church for our April Monthly Meeting. \n 
URL:https://aarichmond.org/event/monthly-intergroup-meeting-2-2-2-5-4/2027-02-02/
LOCATION:Intergroup Office\, 5310 Markel Road Suite 108\, Richmond\, Virginia\, 23220
END:VEVENT
END:VCALENDAR