BEGIN:VCALENDAR
VERSION:2.0
PRODID:-//Alcoholics Anonymous - ECPv6.15.20//NONSGML v1.0//EN
CALSCALE:GREGORIAN
METHOD:PUBLISH
X-ORIGINAL-URL:https://aarichmond.org
X-WR-CALDESC:Events for Alcoholics Anonymous
REFRESH-INTERVAL;VALUE=DURATION:PT1H
X-Robots-Tag:noindex
X-PUBLISHED-TTL:PT1H
BEGIN:VTIMEZONE
TZID:America/New_York
BEGIN:DAYLIGHT
TZOFFSETFROM:-0500
TZOFFSETTO:-0400
TZNAME:EDT
DTSTART:20230312T070000
END:DAYLIGHT
BEGIN:STANDARD
TZOFFSETFROM:-0400
TZOFFSETTO:-0500
TZNAME:EST
DTSTART:20231105T060000
END:STANDARD
BEGIN:DAYLIGHT
TZOFFSETFROM:-0500
TZOFFSETTO:-0400
TZNAME:EDT
DTSTART:20240310T070000
END:DAYLIGHT
BEGIN:STANDARD
TZOFFSETFROM:-0400
TZOFFSETTO:-0500
TZNAME:EST
DTSTART:20241103T060000
END:STANDARD
BEGIN:DAYLIGHT
TZOFFSETFROM:-0500
TZOFFSETTO:-0400
TZNAME:EDT
DTSTART:20250309T070000
END:DAYLIGHT
BEGIN:STANDARD
TZOFFSETFROM:-0400
TZOFFSETTO:-0500
TZNAME:EST
DTSTART:20251102T060000
END:STANDARD
BEGIN:DAYLIGHT
TZOFFSETFROM:-0500
TZOFFSETTO:-0400
TZNAME:EDT
DTSTART:20260308T070000
END:DAYLIGHT
BEGIN:STANDARD
TZOFFSETFROM:-0400
TZOFFSETTO:-0500
TZNAME:EST
DTSTART:20261101T060000
END:STANDARD
BEGIN:DAYLIGHT
TZOFFSETFROM:-0500
TZOFFSETTO:-0400
TZNAME:EDT
DTSTART:20270314T070000
END:DAYLIGHT
BEGIN:STANDARD
TZOFFSETFROM:-0400
TZOFFSETTO:-0500
TZNAME:EST
DTSTART:20271107T060000
END:STANDARD
END:VTIMEZONE
BEGIN:VEVENT
DTSTART;TZID=America/New_York:20260407T193000
DTEND;TZID=America/New_York:20260407T193000
DTSTAMP:20260422T090842
CREATED:20260225T024805Z
LAST-MODIFIED:20260225T025328Z
UID:10000575-1775590200-1775590200@aarichmond.org
SUMMARY:Monthly Intergroup Meeting
DESCRIPTION:The monthly Intergroup meeting (not a recovery meeting) takes place on the first Tuesday of each month at 7:30 PM. The meeting is hybrid. Zoom ID is 948 8534 4579 and password is Inter2020 (Camera ON Requested). \nNOTE: You are welcome to join us in person at the intergroup office in the month of March. Will return to St. Thomas Episcopal Church for our April Monthly Meeting. \n 
URL:https://aarichmond.org/event/monthly-intergroup-meeting-2-2-2-5-4/2026-04-07/
LOCATION:Intergroup Office\, 5310 Markel Road Suite 108\, Richmond\, Virginia\, 23220
END:VEVENT
BEGIN:VEVENT
DTSTART;TZID=America/New_York:20260407T193000
DTEND;TZID=America/New_York:20260407T193000
DTSTAMP:20260422T090842
CREATED:20250329T225259Z
LAST-MODIFIED:20250329T225657Z
UID:10000457-1775590200-1775590200@aarichmond.org
SUMMARY:Monthly Intergroup Meeting
DESCRIPTION:The monthly Intergroup meeting (not a recovery meeting) takes place on the first Tuesday of each month at 7:30 PM. The meeting is hybrid. Zoom ID is 948 8534 4579 and password is Inter2020 (Camera ON Requested) You are welcome to join us in person at this address. \nSt Thomas Episcopal Church\n3602 Hawthorne Avenue Richmond VA 23222
URL:https://aarichmond.org/event/monthly-intergroup-meeting-2-2-2-5/2026-04-07/
LOCATION:St. Thomas Episcopal Church\, 3602 Hawthorne Avenue\, Richmond\, VA\, 23222\, United States
END:VEVENT
BEGIN:VEVENT
DTSTART;TZID=America/New_York:20260303T193000
DTEND;TZID=America/New_York:20260303T193000
DTSTAMP:20260422T090842
CREATED:20260225T024805Z
LAST-MODIFIED:20260225T025328Z
UID:10000456-1772566200-1772566200@aarichmond.org
SUMMARY:Monthly Intergroup Meeting
DESCRIPTION:The monthly Intergroup meeting (not a recovery meeting) takes place on the first Tuesday of each month at 7:30 PM. The meeting is hybrid. Zoom ID is 948 8534 4579 and password is Inter2020 (Camera ON Requested). \nNOTE: You are welcome to join us in person at the intergroup office in the month of March. Will return to St. Thomas Episcopal Church for our April Monthly Meeting. \n 
URL:https://aarichmond.org/event/monthly-intergroup-meeting-2-2-2-5-4/2026-03-03/
LOCATION:Intergroup Office\, 5310 Markel Road Suite 108\, Richmond\, Virginia\, 23220
END:VEVENT
BEGIN:VEVENT
DTSTART;TZID=America/New_York:20260203T193000
DTEND;TZID=America/New_York:20260203T193000
DTSTAMP:20260422T090842
CREATED:20250329T225259Z
LAST-MODIFIED:20250329T225657Z
UID:10000455-1770147000-1770147000@aarichmond.org
SUMMARY:Monthly Intergroup Meeting
DESCRIPTION:The monthly Intergroup meeting (not a recovery meeting) takes place on the first Tuesday of each month at 7:30 PM. The meeting is hybrid. Zoom ID is 948 8534 4579 and password is Inter2020 (Camera ON Requested) You are welcome to join us in person at this address. \nSt Thomas Episcopal Church\n3602 Hawthorne Avenue Richmond VA 23222
URL:https://aarichmond.org/event/monthly-intergroup-meeting-2-2-2-5/2026-02-03/
LOCATION:St. Thomas Episcopal Church\, 3602 Hawthorne Avenue\, Richmond\, VA\, 23222\, United States
END:VEVENT
BEGIN:VEVENT
DTSTART;TZID=America/New_York:20260106T193000
DTEND;TZID=America/New_York:20260106T193000
DTSTAMP:20260422T090842
CREATED:20250329T225259Z
LAST-MODIFIED:20250329T225657Z
UID:10000454-1767727800-1767727800@aarichmond.org
SUMMARY:Monthly Intergroup Meeting
DESCRIPTION:The monthly Intergroup meeting (not a recovery meeting) takes place on the first Tuesday of each month at 7:30 PM. The meeting is hybrid. Zoom ID is 948 8534 4579 and password is Inter2020 (Camera ON Requested) You are welcome to join us in person at this address. \nSt Thomas Episcopal Church\n3602 Hawthorne Avenue Richmond VA 23222
URL:https://aarichmond.org/event/monthly-intergroup-meeting-2-2-2-5/2026-01-06/
LOCATION:St. Thomas Episcopal Church\, 3602 Hawthorne Avenue\, Richmond\, VA\, 23222\, United States
END:VEVENT
BEGIN:VEVENT
DTSTART;TZID=America/New_York:20251202T193000
DTEND;TZID=America/New_York:20251202T193000
DTSTAMP:20260422T090842
CREATED:20250329T225259Z
LAST-MODIFIED:20250329T225657Z
UID:10000453-1764703800-1764703800@aarichmond.org
SUMMARY:Monthly Intergroup Meeting
DESCRIPTION:The monthly Intergroup meeting (not a recovery meeting) takes place on the first Tuesday of each month at 7:30 PM. The meeting is hybrid. Zoom ID is 948 8534 4579 and password is Inter2020 (Camera ON Requested) You are welcome to join us in person at this address. \nSt Thomas Episcopal Church\n3602 Hawthorne Avenue Richmond VA 23222
URL:https://aarichmond.org/event/monthly-intergroup-meeting-2-2-2-5/2025-12-02/
LOCATION:St. Thomas Episcopal Church\, 3602 Hawthorne Avenue\, Richmond\, VA\, 23222\, United States
END:VEVENT
BEGIN:VEVENT
DTSTART;TZID=America/New_York:20251104T193000
DTEND;TZID=America/New_York:20251104T193000
DTSTAMP:20260422T090842
CREATED:20250329T225259Z
LAST-MODIFIED:20250329T225657Z
UID:10000431-1762284600-1762284600@aarichmond.org
SUMMARY:Monthly Intergroup Meeting
DESCRIPTION:The monthly Intergroup meeting (not a recovery meeting) takes place on the first Tuesday of each month at 7:30 PM. The meeting is hybrid. Zoom ID is 948 8534 4579 and password is Inter2020 (Camera ON Requested) You are welcome to join us in person at this address. \nSt Thomas Episcopal Church\n3602 Hawthorne Avenue Richmond VA 23222
URL:https://aarichmond.org/event/monthly-intergroup-meeting-2-2-2-5/2025-11-04/
LOCATION:St. Thomas Episcopal Church\, 3602 Hawthorne Avenue\, Richmond\, VA\, 23222\, United States
END:VEVENT
BEGIN:VEVENT
DTSTART;TZID=America/New_York:20251007T193000
DTEND;TZID=America/New_York:20251007T193000
DTSTAMP:20260422T090842
CREATED:20251007T211435Z
LAST-MODIFIED:20251007T213808Z
UID:10000495-1759865400-1759865400@aarichmond.org
SUMMARY:Monthly Intergroup Meeting (Address change for 10-7-25 ONLY)
DESCRIPTION:Please note change of address for the October 7\, 2025 ONLY Intergroup Meeting to 5310 Markel Road\, #108\, Richmond 23230.\nThe monthly Intergroup meeting (not a recovery meeting) takes place on the first Tuesday of each month at 7:30 PM. The meeting is hybrid. Zoom ID is 948 8534 4579 and password is Inter2020 (Camera ON Requested) You are welcome to join us in person at this address. \nSt Thomas Episcopal Church\n3602 Hawthorne Avenue Richmond VA 23222
URL:https://aarichmond.org/event/monthly-intergroup-meeting-2-2-2-5-3/
LOCATION:Intergroup Office\, 5310 Markel Road\, #108\, Richmond\, VA\, 23230
END:VEVENT
BEGIN:VEVENT
DTSTART;TZID=America/New_York:20250902T193000
DTEND;TZID=America/New_York:20250902T193000
DTSTAMP:20260422T090842
CREATED:20250329T225259Z
LAST-MODIFIED:20250329T225657Z
UID:10000416-1756841400-1756841400@aarichmond.org
SUMMARY:Monthly Intergroup Meeting
DESCRIPTION:The monthly Intergroup meeting (not a recovery meeting) takes place on the first Tuesday of each month at 7:30 PM. The meeting is hybrid. Zoom ID is 948 8534 4579 and password is Inter2020 (Camera ON Requested) You are welcome to join us in person at this address. \nSt Thomas Episcopal Church\n3602 Hawthorne Avenue Richmond VA 23222
URL:https://aarichmond.org/event/monthly-intergroup-meeting-2-2-2-5/2025-09-02/
LOCATION:St. Thomas Episcopal Church\, 3602 Hawthorne Avenue\, Richmond\, VA\, 23222\, United States
END:VEVENT
BEGIN:VEVENT
DTSTART;TZID=America/New_York:20250805T193000
DTEND;TZID=America/New_York:20250805T193000
DTSTAMP:20260422T090842
CREATED:20250329T225259Z
LAST-MODIFIED:20250329T225657Z
UID:10000415-1754422200-1754422200@aarichmond.org
SUMMARY:Monthly Intergroup Meeting
DESCRIPTION:The monthly Intergroup meeting (not a recovery meeting) takes place on the first Tuesday of each month at 7:30 PM. The meeting is hybrid. Zoom ID is 948 8534 4579 and password is Inter2020 (Camera ON Requested) You are welcome to join us in person at this address. \nSt Thomas Episcopal Church\n3602 Hawthorne Avenue Richmond VA 23222
URL:https://aarichmond.org/event/monthly-intergroup-meeting-2-2-2-5/2025-08-05/
LOCATION:St. Thomas Episcopal Church\, 3602 Hawthorne Avenue\, Richmond\, VA\, 23222\, United States
END:VEVENT
BEGIN:VEVENT
DTSTART;TZID=America/New_York:20250701T193000
DTEND;TZID=America/New_York:20250701T193000
DTSTAMP:20260422T090842
CREATED:20250329T225259Z
LAST-MODIFIED:20250329T225657Z
UID:10000414-1751398200-1751398200@aarichmond.org
SUMMARY:Monthly Intergroup Meeting
DESCRIPTION:The monthly Intergroup meeting (not a recovery meeting) takes place on the first Tuesday of each month at 7:30 PM. The meeting is hybrid. Zoom ID is 948 8534 4579 and password is Inter2020 (Camera ON Requested) You are welcome to join us in person at this address. \nSt Thomas Episcopal Church\n3602 Hawthorne Avenue Richmond VA 23222
URL:https://aarichmond.org/event/monthly-intergroup-meeting-2-2-2-5/2025-07-01/
LOCATION:St. Thomas Episcopal Church\, 3602 Hawthorne Avenue\, Richmond\, VA\, 23222\, United States
END:VEVENT
BEGIN:VEVENT
DTSTART;TZID=America/New_York:20250603T193000
DTEND;TZID=America/New_York:20250603T193000
DTSTAMP:20260422T090842
CREATED:20250329T225259Z
LAST-MODIFIED:20250329T225657Z
UID:10000413-1748979000-1748979000@aarichmond.org
SUMMARY:Monthly Intergroup Meeting
DESCRIPTION:The monthly Intergroup meeting (not a recovery meeting) takes place on the first Tuesday of each month at 7:30 PM. The meeting is hybrid. Zoom ID is 948 8534 4579 and password is Inter2020 (Camera ON Requested) You are welcome to join us in person at this address. \nSt Thomas Episcopal Church\n3602 Hawthorne Avenue Richmond VA 23222
URL:https://aarichmond.org/event/monthly-intergroup-meeting-2-2-2-5/2025-06-03/
LOCATION:St. Thomas Episcopal Church\, 3602 Hawthorne Avenue\, Richmond\, VA\, 23222\, United States
END:VEVENT
BEGIN:VEVENT
DTSTART;TZID=America/New_York:20250506T193000
DTEND;TZID=America/New_York:20250506T193000
DTSTAMP:20260422T090842
CREATED:20250329T225259Z
LAST-MODIFIED:20250329T225657Z
UID:10000412-1746559800-1746559800@aarichmond.org
SUMMARY:Monthly Intergroup Meeting
DESCRIPTION:The monthly Intergroup meeting (not a recovery meeting) takes place on the first Tuesday of each month at 7:30 PM. The meeting is hybrid. Zoom ID is 948 8534 4579 and password is Inter2020 (Camera ON Requested) You are welcome to join us in person at this address. \nSt Thomas Episcopal Church\n3602 Hawthorne Avenue Richmond VA 23222
URL:https://aarichmond.org/event/monthly-intergroup-meeting-2-2-2-5/2025-05-06/
LOCATION:St. Thomas Episcopal Church\, 3602 Hawthorne Avenue\, Richmond\, VA\, 23222\, United States
END:VEVENT
BEGIN:VEVENT
DTSTART;TZID=America/New_York:20250401T193000
DTEND;TZID=America/New_York:20250401T193000
DTSTAMP:20260422T090842
CREATED:20250329T225104Z
LAST-MODIFIED:20250329T225105Z
UID:10000411-1743535800-1743535800@aarichmond.org
SUMMARY:Monthly Intergroup Meeting
DESCRIPTION:The monthly Intergroup meeting (not a recovery meeting) takes place on the first Tuesday of each month at 7:30 PM. The meeting is hybrid. Zoom ID is 948 8534 4579 and password is Inter2020 (Camera ON Requested) You are welcome to join us in person at this address. \nLOCATION CHANGE FOR APRIL ONLY \nIntergroup Office \n5310 Markel Rd #108 \nRichmond\, VA 23230
URL:https://aarichmond.org/event/monthly-intergroup-meeting-2-2-2-3/
LOCATION:Intergroup Office\, 5310 Markel Road\, #108\, Richmond\, VA\, 23230
END:VEVENT
BEGIN:VEVENT
DTSTART;TZID=America/New_York:20250304T193000
DTEND;TZID=America/New_York:20250304T193000
DTSTAMP:20260422T090842
CREATED:20250225T145430Z
LAST-MODIFIED:20250225T151301Z
UID:10000447-1741116600-1741116600@aarichmond.org
SUMMARY:Monthly Intergroup Meeting LOCATION CHANGE MARCH 4\, 2025 ONLY
DESCRIPTION:The monthly Intergroup meeting (not a recovery meeting) takes place on the first Tuesday of each month at 7:30 PM. The meeting is hybrid. Zoom ID is 948 8534 4579 and password is Inter2020 (Camera ON Requested) You are welcome to join us in person at this address. March 3\, 2025 meeting will be held in the Intergroup Office\, 5310 Markel Road\, Suite #108\, Richmond VA 23230
URL:https://aarichmond.org/event/monthly-intergroup-meeting-2-2-2-4/
LOCATION:Intergroup Office\, 5310 Markel Road\, #108\, Richmond\, VA\, 23230
END:VEVENT
BEGIN:VEVENT
DTSTART;TZID=America/New_York:20250304T193000
DTEND;TZID=America/New_York:20250304T193000
DTSTAMP:20260422T090842
CREATED:20241122T160520Z
LAST-MODIFIED:20241122T160558Z
UID:10000452-1741116600-1741116600@aarichmond.org
SUMMARY:Monthly Intergroup Meeting
DESCRIPTION:The monthly Intergroup meeting (not a recovery meeting) takes place on the first Tuesday of each month at 7:30 PM. The meeting is hybrid. Zoom ID is 948 8534 4579 and password is Inter2020 (Camera ON Requested) You are welcome to join us in person at this address. \nSt Thomas Episcopal Church\n3602 Hawthorne Avenue Richmond VA 23222
URL:https://aarichmond.org/event/monthly-intergroup-meeting-2-2-2/2025-03-04/
LOCATION:Intergroup Office\, 5310 Markel Road\, #108\, Richmond\, VA\, 23230
END:VEVENT
BEGIN:VEVENT
DTSTART;TZID=America/New_York:20250204T193000
DTEND;TZID=America/New_York:20250204T203000
DTSTAMP:20260422T090842
CREATED:20250112T200221Z
LAST-MODIFIED:20250225T125357Z
UID:10000440-1738697400-1738701000@aarichmond.org
SUMMARY:Monthly Intergroup Meeting
DESCRIPTION:the monthly Intergroup Meeting takes place at St. Thomas Episcopal Church 3602 Hawthorne Avenue Richmond VA 23222 \nThe monthly Intergroup meeting (not a recovery meeting) takes place on the first Tuesday of each month at 7:30 PM. The meeting is hybrid. Zoom ID is 948 8534 4579 and password is Inter2020 (Camera ON Requested) You are welcome to join us in person at this address.
URL:https://aarichmond.org/event/monthly-intergroup-meeting-2-2-2-2/
LOCATION:Intergroup Office\, 5310 Markel Road Suite 108\, Richmond\, Virginia\, 23220
END:VEVENT
BEGIN:VEVENT
DTSTART;TZID=America/New_York:20250204T193000
DTEND;TZID=America/New_York:20250204T193000
DTSTAMP:20260422T090842
CREATED:20241122T160520Z
LAST-MODIFIED:20241122T160558Z
UID:10000451-1738697400-1738697400@aarichmond.org
SUMMARY:Monthly Intergroup Meeting
DESCRIPTION:The monthly Intergroup meeting (not a recovery meeting) takes place on the first Tuesday of each month at 7:30 PM. The meeting is hybrid. Zoom ID is 948 8534 4579 and password is Inter2020 (Camera ON Requested) You are welcome to join us in person at this address. \nSt Thomas Episcopal Church\n3602 Hawthorne Avenue Richmond VA 23222
URL:https://aarichmond.org/event/monthly-intergroup-meeting-2-2-2/2025-02-04/
LOCATION:Intergroup Office\, 5310 Markel Road\, #108\, Richmond\, VA\, 23230
END:VEVENT
BEGIN:VEVENT
DTSTART;TZID=America/New_York:20250107T193000
DTEND;TZID=America/New_York:20250107T193000
DTSTAMP:20260422T090842
CREATED:20241122T160520Z
LAST-MODIFIED:20241122T160558Z
UID:10000408-1736278200-1736278200@aarichmond.org
SUMMARY:Monthly Intergroup Meeting
DESCRIPTION:The monthly Intergroup meeting (not a recovery meeting) takes place on the first Tuesday of each month at 7:30 PM. The meeting is hybrid. Zoom ID is 948 8534 4579 and password is Inter2020 (Camera ON Requested) You are welcome to join us in person at this address. \nSt Thomas Episcopal Church\n3602 Hawthorne Avenue Richmond VA 23222
URL:https://aarichmond.org/event/monthly-intergroup-meeting-2-2-2/2025-01-07/
LOCATION:Intergroup Office\, 5310 Markel Road\, #108\, Richmond\, VA\, 23230
END:VEVENT
BEGIN:VEVENT
DTSTART;TZID=America/New_York:20241203T193000
DTEND;TZID=America/New_York:20241203T193000
DTSTAMP:20260422T090842
CREATED:20241122T160520Z
LAST-MODIFIED:20241122T160558Z
UID:10000407-1733254200-1733254200@aarichmond.org
SUMMARY:Monthly Intergroup Meeting
DESCRIPTION:The monthly Intergroup meeting (not a recovery meeting) takes place on the first Tuesday of each month at 7:30 PM. The meeting is hybrid. Zoom ID is 948 8534 4579 and password is Inter2020 (Camera ON Requested) You are welcome to join us in person at this address. \nSt Thomas Episcopal Church\n3602 Hawthorne Avenue Richmond VA 23222
URL:https://aarichmond.org/event/monthly-intergroup-meeting-2-2-2/2024-12-03/
LOCATION:Intergroup Office\, 5310 Markel Road\, #108\, Richmond\, VA\, 23230
END:VEVENT
BEGIN:VEVENT
DTSTART;TZID=America/New_York:20241105T193000
DTEND;TZID=America/New_York:20241105T193000
DTSTAMP:20260422T090842
CREATED:20240918T181125Z
LAST-MODIFIED:20241122T160632Z
UID:10000406-1730835000-1730835000@aarichmond.org
SUMMARY:Monthly Intergroup Meeting
DESCRIPTION:The monthly Intergroup meeting (not a recovery meeting) takes place on the first Tuesday of each month at 7:30 PM. The meeting is hybrid. Zoom ID is 948 8534 4579 and password is Inter2020 (Camera ON Requested) You are welcome to join us in person at this address. \nSt Thomas Episcopal Church\n3602 Hawthorne Avenue Richmond VA 23222
URL:https://aarichmond.org/event/monthly-intergroup-meeting-2-2/2024-11-05/
LOCATION:Intergroup Office\, 5310 Markel Road\, #108\, Richmond\, VA\, 23230
END:VEVENT
BEGIN:VEVENT
DTSTART;TZID=America/New_York:20241001T193000
DTEND;TZID=America/New_York:20241001T193000
DTSTAMP:20260422T090842
CREATED:20240918T181125Z
LAST-MODIFIED:20241122T160632Z
UID:10000405-1727811000-1727811000@aarichmond.org
SUMMARY:Monthly Intergroup Meeting
DESCRIPTION:The monthly Intergroup meeting (not a recovery meeting) takes place on the first Tuesday of each month at 7:30 PM. The meeting is hybrid. Zoom ID is 948 8534 4579 and password is Inter2020 (Camera ON Requested) You are welcome to join us in person at this address. \nSt Thomas Episcopal Church\n3602 Hawthorne Avenue Richmond VA 23222
URL:https://aarichmond.org/event/monthly-intergroup-meeting-2-2/2024-10-01/
LOCATION:Intergroup Office\, 5310 Markel Road\, #108\, Richmond\, VA\, 23230
END:VEVENT
BEGIN:VEVENT
DTSTART;TZID=America/New_York:20240907T193000
DTEND;TZID=America/New_York:20240907T193000
DTSTAMP:20260422T090842
CREATED:20240918T132329Z
LAST-MODIFIED:20240918T180949Z
UID:10000326-1725737400-1725737400@aarichmond.org
SUMMARY:Monthly Intergroup Meeting
DESCRIPTION:The monthly Intergroup meeting (not a recovery meeting) takes place on the first Tuesday of each month at 7:30 PM. You are welcome to join us in person at this address. \nSt Thomas Episcopal Church\n3602 Hawthorne Avenue Richmond VA 23222
URL:https://aarichmond.org/event/monthly-intergroup-meeting-2/2024-09-07/
LOCATION:Intergroup Office\, 5310 Markel Road\, #108\, Richmond\, VA\, 23230
END:VEVENT
BEGIN:VEVENT
DTSTART;TZID=America/New_York:20240905T193000
DTEND;TZID=America/New_York:20240905T193000
DTSTAMP:20260422T090842
CREATED:20240918T132329Z
LAST-MODIFIED:20240918T180949Z
UID:10000325-1725564600-1725564600@aarichmond.org
SUMMARY:Monthly Intergroup Meeting
DESCRIPTION:The monthly Intergroup meeting (not a recovery meeting) takes place on the first Tuesday of each month at 7:30 PM. You are welcome to join us in person at this address. \nSt Thomas Episcopal Church\n3602 Hawthorne Avenue Richmond VA 23222
URL:https://aarichmond.org/event/monthly-intergroup-meeting-2/2024-09-05/
LOCATION:Intergroup Office\, 5310 Markel Road\, #108\, Richmond\, VA\, 23230
END:VEVENT
BEGIN:VEVENT
DTSTART;TZID=America/New_York:20240903T193000
DTEND;TZID=America/New_York:20240903T203000
DTSTAMP:20260422T090842
CREATED:20240812T144626Z
LAST-MODIFIED:20240812T151840Z
UID:10000247-1725391800-1725395400@aarichmond.org
SUMMARY:Monthly Intergroup Meeting
DESCRIPTION:The monthly Intergroup meeting (not a recovery meeting) takes place on the first Tuesday of each month at 7:30 PM. You are welcome to join us in person at this address. \nSt Thomas Episcopal Church\n3602 Hawthorne Avenue Richmond VA 23222 \nNote: The September 2024 Intergroup Meeting will be held in person only\, when a motion about continuing the hybrid meeting will be discussed.
URL:https://aarichmond.org/event/monthly-intergroup-meeting/
LOCATION:Intergroup Office\, 5310 Markel Road\, #108\, Richmond\, VA\, 23230
END:VEVENT
END:VCALENDAR